Workbook
Name ARRIBA: SB!$A$4:$A$72
Name ARRIBA: INFORME!$A$4:$A$72
Name DALT: SB!$A$5:$A$61
Name DALT: INFORME!$A$5:$A$61
Name UP: INFORME!$A$4:$A$61

Sheet INFORME
D2: INFORME de ACTIVIDAD de VENTAS
C18: ▼ | E18: MiEmpresa | H18: INFORME DE ACTIVIDAD
C19: ▼ | E19: VENDEDOR | G19: Luis Carvajal | I19: SEMANA/Fecha | M19: =+TODAY() -> 45942 | P19: RATIOS MÍNIMOS
C20: ▼ | E20: TAREAS REALIZADAS | P20: Días Trabajados | Q20: 3
C21: ▼ | E21: DÍA | G21: MAÑANA | I21: TARDE | L21: RESUMEN | M21: Horas | P21: Entrevistas por día | Q21: 20
C22: ▼ | E22: lunes | F22: 21 | G22: Visita clientes | I22: Visita clientes | L22: Horas Viaje | M22: 2 | P22: Ratio Venta | Q22: 0.2
C23: ▼ | G23: 13h en oficina | I23: Visita clientes | L23: Horas Venta | M23: 4 | P23: % Horas Venta | Q23: 0.65
C24: ▼ | E24: martes | L24: =L22 -> Horas Viaje | P24: Promedio Facturación | Q24: 240000
C25: ▼ | L25: =L23 -> Horas Venta
C26: ▼ | E26: miérc. | L26: =L24 -> Horas Viaje
C27: ▼ | L27: =L25 -> Horas Venta
C28: ▼ | E28: jueves | L28: =L26 -> Horas Viaje
C29: ▼ | L29: =L27 -> Horas Venta
C30: ▼ | E30: viernes | L30: =L28 -> Horas Viaje
C31: ▼ | L31: =L29 -> Horas Venta
C32: ▼ | E32: sábado | L32: =L30 -> Horas Viaje
C33: ▼ | L33: =L31 -> Horas Venta
C34: ▼ | E34: RESUMEN ACTIVIDAD y RESULTADOS
C35: ▼ | E35: Total Entrevistas | G35: 25 | H35: Total Pedidos o Ventas | J35: 5 | K35: Total Facturación | M35: 1200000
C36: ▼ | E36: =SB!E36 -> Dias trabajados | G36: =SB!G36 -> 1 | H36: =SB!H36 -> Entrev. media diaria | I36: =SB!I36 -> 25 | J36: =SB!J36 -> Media/dia | K36: =SB!K36 -> 5 | L36: =SB!L36 -> Ratio Venta | M36: =SB!M36 -> 0.2
C37: ▼ | E37: =SB!E37 -> Total horas viaje | G37: =SB!G37 -> 2 | H37: =SB!H37 -> 0.33333333 | I37: =SB!I37 -> Horas venta | J37: =SB!J37 -> 4 | K37: =SB!K37 -> 0.66666667 | L37: =SB!L37 -> Promedio Fact | M37: =SB!M37 -> 240000
C38: ▼ | E38: LIQUIDACIÓN DE GASTOS
C39: ▼
C40: ▼ | E40: Anticipo inicial de caja | L40: 1000
C41: ▼ | E41: Alojamiento | J41: 100
C42: ▼ | E42: Dietas y-o manutención | J42: 200
C43: ▼ | E43: Billetes Avión
C44: ▼ | E44: Tren y Bus
C45: ▼ | E45: Taxis | J45: 100
C46: ▼ | E46: Parking | J46: 100
C47: ▼ | E47: Alquiler automóvil | J47: 100
C48: ▼ | E48: Kilómetros | G48: 10 | H48: Precio por Km | I48: 10 | J48: =+G48*I48 -> 100
C49: ▼ | E49: Otros Gastos justificados (especificar)
C50: ▼ | F50: Compra de materiales | J50: 100
C51: ▼
C52: ▼ | E52: TOTAL GASTOS | J52: =SB!J52 -> 800
C53: ▼ | E53: SALDO FINAL anticipo de caja | L53: =SB!L53 -> 200
C54: ▼ | E54: Firma | I54: Firma Responsable Departamento
C55: ▼
C56: ▼
...

Sheet SB
D2: INFORME de ACTIVIDAD de VENTAS
C18: ▼ | E18: =INFORME!E18 -> MiEmpresa | H18: =INFORME!H18 -> INFORME DE ACTIVIDAD | P18: RATIOS MÍNIMOS
C19: ▼ | E19: =INFORME!E19 -> VENDEDOR | G19: =INFORME!G19 -> Luis Carvajal | I19: =INFORME!I19 -> SEMANA/Fecha | K19: =INFORME!K19 -> 0 | M19: =INFORME!M19 -> 45942 | P19: Días Trabajados | Q19: =INFORME!Q20 -> 3
C20: ▼ | E20: =INFORME!E20 -> TAREAS REALIZADAS | P20: Entrevistas por día | Q20: =INFORME!Q21 -> 20
C21: ▼ | E21: =INFORME!E21 -> DÍA | G21: =INFORME!G21 -> MAÑANA | I21: =INFORME!I21 -> TARDE | L21: =INFORME!L21 -> RESUMEN | M21: =INFORME!M21 -> Horas | P21: Ratio Venta | Q21: =INFORME!Q22 -> 0.2
C22: ▼ | E22: =INFORME!E22 -> lunes | F22: =INFORME!F22 -> 21 | G22: =INFORME!G22 -> Visita clientes | I22: =INFORME!I22 -> Visita clientes | L22: =INFORME!L22 -> Horas Viaje | M22: =INFORME!M22 -> 2 | P22: % Horas Venta | Q22: =INFORME!Q23 -> 0.65
C23: ▼ | G23: =INFORME!G23 -> 13h en oficina | I23: =INFORME!I23 -> Visita clientes | L23: =INFORME!L23 -> Horas Venta | M23: =INFORME!M23 -> 4 | P23: Promedio Facturación | Q23: =INFORME!Q24 -> 240000
C24: ▼ | E24: =INFORME!E24 -> martes | F24: =INFORME!F24 -> 0 | G24: =INFORME!G24 -> 0 | I24: =INFORME!I24 -> 0 | L24: =INFORME!L24 -> Horas Viaje | M24: =INFORME!M24 -> 0
C25: ▼ | G25: =INFORME!G25 -> 0 | I25: =INFORME!I25 -> 0 | L25: =INFORME!L25 -> Horas Venta | M25: =INFORME!M25 -> 0
C26: ▼ | E26: =INFORME!E26 -> miérc. | F26: =INFORME!F26 -> 0 | G26: =INFORME!G26 -> 0 | I26: =INFORME!I26 -> 0 | L26: =INFORME!L26 -> Horas Viaje | M26: =INFORME!M26 -> 0
C27: ▼ | G27: =INFORME!G27 -> 0 | I27: =INFORME!I27 -> 0 | L27: =INFORME!L27 -> Horas Venta | M27: =INFORME!M27 -> 0
C28: ▼ | E28: =INFORME!E28 -> jueves | F28: =INFORME!F28 -> 0 | G28: =INFORME!G28 -> 0 | I28: =INFORME!I28 -> 0 | L28: =INFORME!L28 -> Horas Viaje | M28: =INFORME!M28 -> 0
C29: ▼ | G29: =INFORME!G29 -> 0 | I29: =INFORME!I29 -> 0 | L29: =INFORME!L29 -> Horas Venta | M29: =INFORME!M29 -> 0
C30: ▼ | E30: =INFORME!E30 -> viernes | F30: =INFORME!F30 -> 0 | G30: =INFORME!G30 -> 0 | I30: =INFORME!I30 -> 0 | L30: =INFORME!L30 -> Horas Viaje | M30: =INFORME!M30 -> 0
C31: ▼ | G31: =INFORME!G31 -> 0 | I31: =INFORME!I31 -> 0 | L31: =INFORME!L31 -> Horas Venta | M31: =INFORME!M31 -> 0
C32: ▼ | E32: =INFORME!E32 -> sábado | F32: =INFORME!F32 -> 0 | G32: =INFORME!G32 -> 0 | I32: =INFORME!I32 -> 0 | L32: =INFORME!L32 -> Horas Viaje | M32: =INFORME!M32 -> 0
C33: ▼ | G33: =INFORME!G33 -> 0 | I33: =INFORME!I33 -> 0 | L33: =INFORME!L33 -> Horas Venta | M33: =INFORME!M33 -> 0
C34: ▼ | E34: RESUMEN ACTIVIDAD y RESULTADOS
C35: ▼ | E35: =INFORME!E35 -> Total Entrevistas | G35: =INFORME!G35 -> 25 | H35: =INFORME!H35 -> Total Pedidos o Ventas | J35: =INFORME!J35 -> 5 | K35: =INFORME!K35 -> Total Facturación | M35: =INFORME!M35 -> 1200000
C36: ▼ | E36: Dias trabajados | G36: =COUNTIF(F22:F33,">0") -> 1 | H36: Entrev. media diaria | I36: =IF(G36=0,0,G35/G36) -> 25 | J36: Media/dia | K36: =IF(G36=0,0,J35/G36) -> 5 | L36: Ratio Venta | M36: =+J35/G35 -> 0.2
C37: ▼ | E37: Total horas viaje | G37: =+M24+M22+M26+M28+M30+M32 -> 2 | H37: =IF(J37=0,0,G37/(G37+J37)) -> 0.33333333 | I37: Horas venta | J37: =+M23+M25+M27+M29+M31+M33 -> 4 | K37: =IF(G37=0,0,J37/(J37+G37)) -> 0.66666667 | L37: Promedio Fact | M37: =+IF(J35=0,0,M35/J35) -> 240000
C38: ▼ | E38: LIQUIDACIÓN DE GASTOS
C39: ▼
C40: ▼ | E40: Anticipo inicial de caja | I40: =INFORME!I40 -> 0 | L40: =INFORME!L40 -> 1000
C41: ▼ | E41: Alojamiento | I41: =INFORME!I41 -> 0 | J41: =INFORME!J41 -> 100 | L41: =INFORME!L41 -> 0
C42: ▼ | E42: Dietas y-o manutención | I42: =INFORME!I42 -> 0 | J42: =INFORME!J42 -> 200 | L42: =INFORME!L42 -> 0
C43: ▼ | E43: Billetes Avión | I43: =INFORME!I43 -> 0 | J43: =INFORME!J43 -> 0 | L43: =INFORME!L43 -> 0
C44: ▼ | E44: Tren y Bus | I44: =INFORME!I44 -> 0 | J44: =INFORME!J44 -> 0 | L44: =INFORME!L44 -> 0
C45: ▼ | E45: Taxis | I45: =INFORME!I45 -> 0 | J45: =INFORME!J45 -> 100 | L45: =INFORME!L45 -> 0
C46: ▼ | E46: Parking | I46: =INFORME!I46 -> 0 | J46: =INFORME!J46 -> 100 | L46: =INFORME!L46 -> 0
C47: ▼ | E47: Alquiler automóvil | I47: =INFORME!I47 -> 0 | J47: =INFORME!J47 -> 100 | L47: =INFORME!L47 -> 0
C48: ▼ | E48: Kilómetros | G48: =INFORME!$G$48 -> 10 | H48: Precio por Km | I48: =INFORME!I48 -> 10 | J48: =INFORME!J48 -> 100 | L48: =INFORME!L48 -> 0
C49: ▼ | E49: Otros Gastos justificados (especificar)
C50: ▼ | F50: Compra de materiales | J50: =INFORME!J50 -> 100
C51: ▼ | J51: =INFORME!J51 -> 0
C52: ▼ | E52: TOTAL GASTOS | J52: =SUM(J41:K51) -> 800
C53: ▼ | E53: SALDO FINAL anticipo de caja | L53: =+L40-J52 -> 200
C54: ▼ | E54: Firma | I54: Firma Responsable Departamento
C55: ▼
C56: ▼
...
